BEGIN:VCALENDAR
VERSION:2.0
PRODID:-//SP Gossau - ECPv6.15.20//NONSGML v1.0//EN
CALSCALE:GREGORIAN
METHOD:PUBLISH
X-WR-CALNAME:SP Gossau
X-ORIGINAL-URL:https://spgossauzh.ch
X-WR-CALDESC:Veranstaltungen im SP Gossau
REFRESH-INTERVAL;VALUE=DURATION:PT1H
X-Robots-Tag:noindex
X-PUBLISHED-TTL:PT1H
BEGIN:VTIMEZONE
TZID:Europe/Zurich
BEGIN:DAYLIGHT
TZOFFSETFROM:+0100
TZOFFSETTO:+0200
TZNAME:CEST
DTSTART:20250330T010000
END:DAYLIGHT
BEGIN:STANDARD
TZOFFSETFROM:+0200
TZOFFSETTO:+0100
TZNAME:CET
DTSTART:20251026T010000
END:STANDARD
BEGIN:DAYLIGHT
TZOFFSETFROM:+0100
TZOFFSETTO:+0200
TZNAME:CEST
DTSTART:20260329T010000
END:DAYLIGHT
BEGIN:STANDARD
TZOFFSETFROM:+0200
TZOFFSETTO:+0100
TZNAME:CET
DTSTART:20261025T010000
END:STANDARD
BEGIN:DAYLIGHT
TZOFFSETFROM:+0100
TZOFFSETTO:+0200
TZNAME:CEST
DTSTART:20270328T010000
END:DAYLIGHT
BEGIN:STANDARD
TZOFFSETFROM:+0200
TZOFFSETTO:+0100
TZNAME:CET
DTSTART:20271031T010000
END:STANDARD
END:VTIMEZONE
BEGIN:VEVENT
DTSTART;TZID=Europe/Zurich:20260704T120000
DTEND;TZID=Europe/Zurich:20260704T210000
DTSTAMP:20260419T135635
CREATED:20260409T142202Z
LAST-MODIFIED:20260409T142202Z
UID:88555-1783166400-1783198800@spgossauzh.ch
SUMMARY:Parteitag SP Kanton Zürich
DESCRIPTION:
URL:https://spgossauzh.ch/veranstaltung/parteitag-sp-kanton-zuerich/
LOCATION:Chesselhuus\, Pfäffikon\, 8330
END:VEVENT
END:VCALENDAR