BEGIN:VCALENDAR
VERSION:2.0
PRODID:-//SP Gossau - ECPv6.15.20//NONSGML v1.0//EN
CALSCALE:GREGORIAN
METHOD:PUBLISH
X-WR-CALNAME:SP Gossau
X-ORIGINAL-URL:https://spgossauzh.ch
X-WR-CALDESC:Veranstaltungen im SP Gossau
REFRESH-INTERVAL;VALUE=DURATION:PT1H
X-Robots-Tag:noindex
X-PUBLISHED-TTL:PT1H
BEGIN:VTIMEZONE
TZID:Europe/Zurich
BEGIN:DAYLIGHT
TZOFFSETFROM:+0100
TZOFFSETTO:+0200
TZNAME:CEST
DTSTART:20250330T010000
END:DAYLIGHT
BEGIN:STANDARD
TZOFFSETFROM:+0200
TZOFFSETTO:+0100
TZNAME:CET
DTSTART:20251026T010000
END:STANDARD
BEGIN:DAYLIGHT
TZOFFSETFROM:+0100
TZOFFSETTO:+0200
TZNAME:CEST
DTSTART:20260329T010000
END:DAYLIGHT
BEGIN:STANDARD
TZOFFSETFROM:+0200
TZOFFSETTO:+0100
TZNAME:CET
DTSTART:20261025T010000
END:STANDARD
BEGIN:DAYLIGHT
TZOFFSETFROM:+0100
TZOFFSETTO:+0200
TZNAME:CEST
DTSTART:20270328T010000
END:DAYLIGHT
BEGIN:STANDARD
TZOFFSETFROM:+0200
TZOFFSETTO:+0100
TZNAME:CET
DTSTART:20271031T010000
END:STANDARD
END:VTIMEZONE
BEGIN:VEVENT
DTSTART;TZID=Europe/Zurich:20260501T140000
DTEND;TZID=Europe/Zurich:20260501T140000
DTSTAMP:20260421T114633
CREATED:20260327T133943Z
LAST-MODIFIED:20260407T183504Z
UID:88483-1777644000-1777644000@spgossauzh.ch
SUMMARY:1. Mai Feier Landihalle Uster
DESCRIPTION:Slogan 2026 «Jobs und Löhne verteidigen – Nein zur Abschottung» – der Slogan wurde vom offiziellen SGB Motto übernommen.\nDer Fokus liegt auf der Mobilisierung gegen die 10 Mio. Initiative der SVP.\n14:00 Uhr Festwirtschaft (Bewirtung durch Stadtpark Grill)\n15:00 Uhr Reden von Advije Delihasani (Bezirk Hinwil)\, Ivo Hasler (Bezirk Uster) und Nadja Wirth (Bezirk Pfäffikon) – alle drei Redner:innen sind kürzlich in den Kantonsrat nachgerückt
URL:https://spgossauzh.ch/veranstaltung/1-mai-feier/
LOCATION:Landihalle Uster
END:VEVENT
END:VCALENDAR